BEGIN:VCALENDAR
VERSION:2.0
PRODID:-//Hey Bellingham - ECPv6.15.20//NONSGML v1.0//EN
CALSCALE:GREGORIAN
METHOD:PUBLISH
X-WR-CALNAME:Hey Bellingham
X-ORIGINAL-URL:https://heybellingham.com
X-WR-CALDESC:Events for Hey Bellingham
REFRESH-INTERVAL;VALUE=DURATION:PT1H
X-Robots-Tag:noindex
X-PUBLISHED-TTL:PT1H
BEGIN:VTIMEZONE
TZID:America/Los_Angeles
BEGIN:DAYLIGHT
TZOFFSETFROM:-0800
TZOFFSETTO:-0700
TZNAME:PDT
DTSTART:20230312T100000
END:DAYLIGHT
BEGIN:STANDARD
TZOFFSETFROM:-0700
TZOFFSETTO:-0800
TZNAME:PST
DTSTART:20231105T090000
END:STANDARD
BEGIN:DAYLIGHT
TZOFFSETFROM:-0800
TZOFFSETTO:-0700
TZNAME:PDT
DTSTART:20240310T100000
END:DAYLIGHT
BEGIN:STANDARD
TZOFFSETFROM:-0700
TZOFFSETTO:-0800
TZNAME:PST
DTSTART:20241103T090000
END:STANDARD
BEGIN:DAYLIGHT
TZOFFSETFROM:-0800
TZOFFSETTO:-0700
TZNAME:PDT
DTSTART:20250309T100000
END:DAYLIGHT
BEGIN:STANDARD
TZOFFSETFROM:-0700
TZOFFSETTO:-0800
TZNAME:PST
DTSTART:20251102T090000
END:STANDARD
END:VTIMEZONE
BEGIN:VEVENT
DTSTART;TZID=America/Los_Angeles:20240531T200000
DTEND;TZID=America/Los_Angeles:20241220T200000
DTSTAMP:20260422T030135
CREATED:20241210T104438Z
LAST-MODIFIED:20241210T104438Z
UID:4468-1717185600-1734724800@heybellingham.com
SUMMARY:Live Acoustic Music
DESCRIPTION:Enjoy live acoustic music brought to you by local Bellingham musicians. El Capitan’s Taproom has a great atmosphere for music\, food\, and drinks. \nWe’re always looking for more talent—if you or a friend is interested in playing\, please contact El Capitan’s directly. \n  \nStarts: May 31\, 2024 \nOccurs: Every week on Friday until December 20\, 2024\nTime: 8 p.m. \n8 p.m. –Location: El Capitan’s\n1201 Cornwall Ave #101\, Bellingham\, WA 98225
URL:https://heybellingham.com/event/live-acoustic-music/
LOCATION:The Taproom at El Capitan’s\, 1201 Cornwall Ave\, Bellingham\, WA\, WA 98225\, United States
CATEGORIES:Music
ATTACH;FMTTYPE=image/png:https://heybellingham.com/wp-content/uploads/2024/12/Live-Acoustic-Music.png
END:VEVENT
BEGIN:VEVENT
DTSTART;TZID=America/Los_Angeles:20240719T200000
DTEND;TZID=America/Los_Angeles:20241220T200000
DTSTAMP:20260422T030135
CREATED:20241210T093520Z
LAST-MODIFIED:20241210T093520Z
UID:4459-1721419200-1734724800@heybellingham.com
SUMMARY:Free Live Music!
DESCRIPTION:Every Friday the Aslan Depot holds FREE live shows! We have everything from folk to metal bands play. Watch our Instagram or website for this weeks band! \n  \nStarts: July 19\, 2024 \nOccurs: Every week on Friday until December 20\, 2024\nTime: 8 – 10 p.m. \n8 – 10 p.m. –Location: Aslan Depot\n1322 N State St.\, Bellingham\, WA 98229
URL:https://heybellingham.com/event/free-live-music/
LOCATION:Aslan Depot\, 1322 N State St.\, Bellingham\, WA\, WA 98225\, United States
CATEGORIES:Music
ATTACH;FMTTYPE=image/jpeg:https://heybellingham.com/wp-content/uploads/2024/12/Free-Live-Music.jpg
END:VEVENT
BEGIN:VEVENT
DTSTART;TZID=America/Los_Angeles:20240406T100000
DTEND;TZID=America/Los_Angeles:20240406T140000
DTSTAMP:20260422T030135
CREATED:20241010T015009Z
LAST-MODIFIED:20241010T015511Z
UID:4212-1712397600-1712412000@heybellingham.com
SUMMARY:Bellingham Farmers Market
DESCRIPTION:Bellingham’s farmers market roots began in the late 1970s. There were various iterations of a farmers market in the downtown core. \nIn 1992\, a group of passionate citizens and farmers organized what is now the Bellingham Farmers Market Association. The market began as a small gathering of farmers and food vendors off of Railroad Ave. There was a gravel parking lot with a few trees near what is now Bellingham Bay Brewery. \nAs the organization formalized itself\, the market gained in popularity. With City support\, Depot Market Square was built in 2006. The Depot provided permanent infrastructure for vendors including the pavilion\, a kitchen\, electricity and public bathrooms. \nCurrently\, the Depot is used as a City parking lot Monday through Friday\, and rented out on weekends by the Parks and Recreation Department. We are proud to call Depot Market Square – the permanent home of the Saturday Bellingham Farmers Market! \n2022 marked our 30th Anniversary!
URL:https://heybellingham.com/event/bellingham-farmers-market-3/
LOCATION:1100 Railroad Ave\, Bellingham\, WA 98255\, 1100 Railroad Ave\, Bellingham\, WA\, 98255\, United States
CATEGORIES:Art,Food,Market
ATTACH;FMTTYPE=image/jpeg:https://heybellingham.com/wp-content/uploads/2024/10/bellingham-saturday-market.jpeg
END:VEVENT
END:VCALENDAR